BEGIN:VCALENDAR
VERSION:2.0
CALSCALE:GREGORIAN
PRODID:-//WordPress//RSVPMaker//EN
METHOD:REQUEST
BEGIN:VEVENT
DTSTAMP:20260421T172917Z
UID:B2FAAC65F33845B3DD70F9FA9E9AA7E3@rsvpmaker.com
SEQUENCE:0
STATUS:CONFIRMED
DTSTART:20210715T230000Z
DTEND:20210716T000000Z
LOCATION:See\: https\://ortegariverclub.net/rsvpmaker/west-coast-swing
 -lessons-free-beginner-level-and-open-dancing-2021-07-15-190000/
SUMMARY:West Coast Swing Lessons,   and Open Dancing
DESCRIPTION:Event info\: https\://ortegariverclub.net/rsvpmaker/west-c
 oast-swing-lessons-free-beginner-level-and-open-dancing-2021-07-15-190
 000/
END:VEVENT
END:VCALENDAR