BEGIN:VCALENDAR
VERSION:2.0
CALSCALE:GREGORIAN
PRODID:-//WordPress//RSVPMaker//EN
METHOD:REQUEST
BEGIN:VEVENT
DTSTAMP:20260422T145119Z
UID:E5FEA2100557ED4A239FA49305613D6B@rsvpmaker.com
SEQUENCE:0
STATUS:CONFIRMED
DTSTART:20241121T220000Z
DTEND:20241121T230000Z
LOCATION:See\: https\://ortegariverclub.net/rsvpmaker/west-coast-swing
 -lessons-and-open-dancing-by-demery-and-derek-leyva-and-jennifer-norri
 s-2024-11-21/
SUMMARY:West Coast Swing Lessons and Open Dancing by Demery and Derek 
 Leyva and Jennifer Norris
DESCRIPTION:Event info\: https\://ortegariverclub.net/rsvpmaker/west-c
 oast-swing-lessons-and-open-dancing-by-demery-and-derek-leyva-and-jenn
 ifer-norris-2024-11-21/
END:VEVENT
END:VCALENDAR