BEGIN:VCALENDAR
VERSION:2.0
CALSCALE:GREGORIAN
PRODID:-//WordPress//RSVPMaker//EN
METHOD:REQUEST
BEGIN:VEVENT
DTSTAMP:20260422T163949Z
UID:F343EEAFF25CE857C412A552C4F160D6@rsvpmaker.com
SEQUENCE:0
STATUS:CONFIRMED
DTSTART:20241024T210000Z
DTEND:20241024T220000Z
LOCATION:See\: https\://ortegariverclub.net/rsvpmaker/west-coast-swing
 -lessons-and-open-dancing-by-demery-and-derek-leyva-and-jennifer-norri
 s-2024-10-24/
SUMMARY:West Coast Swing Lessons and Open Dancing by Demery and Derek 
 Leyva and Jennifer Norris
DESCRIPTION:Event info\: https\://ortegariverclub.net/rsvpmaker/west-c
 oast-swing-lessons-and-open-dancing-by-demery-and-derek-leyva-and-jenn
 ifer-norris-2024-10-24/
END:VEVENT
END:VCALENDAR