BEGIN:VCALENDAR
VERSION:2.0
CALSCALE:GREGORIAN
PRODID:-//WordPress//RSVPMaker//EN
METHOD:REQUEST
BEGIN:VEVENT
DTSTAMP:20260422T163927Z
UID:AC6EED7114066FF5D9B10473B7EF6341@rsvpmaker.com
SEQUENCE:0
STATUS:CONFIRMED
DTSTART:20241017T210000Z
DTEND:20241017T220000Z
LOCATION:See\: https\://ortegariverclub.net/rsvpmaker/west-coast-swing
 -lessons-and-open-dancing-by-demery-and-derek-leyva-and-jennifer-norri
 s-2024-10-17/
SUMMARY:West Coast Swing Lessons and Open Dancing by Demery and Derek 
 Leyva and Jennifer Norris
DESCRIPTION:Event info\: https\://ortegariverclub.net/rsvpmaker/west-c
 oast-swing-lessons-and-open-dancing-by-demery-and-derek-leyva-and-jenn
 ifer-norris-2024-10-17/
END:VEVENT
END:VCALENDAR