BEGIN:VCALENDAR
VERSION:2.0
CALSCALE:GREGORIAN
PRODID:-//WordPress//RSVPMaker//EN
METHOD:REQUEST
BEGIN:VEVENT
DTSTAMP:20260422T164111Z
UID:4B6E52B78E2E69D553E252BD6E1A565C@rsvpmaker.com
SEQUENCE:0
STATUS:CONFIRMED
DTSTART:20240912T210000Z
DTEND:20240912T220000Z
LOCATION:See\: https\://ortegariverclub.net/rsvpmaker/west-coast-swing
 -lessons-and-open-dancing-by-demery-and-derek-leyva-and-jennifer-norri
 s-2024-09-12/
SUMMARY:West Coast Swing Lessons and Open Dancing by Demery and Derek 
 Leyva and Jennifer Norris
DESCRIPTION:Event info\: https\://ortegariverclub.net/rsvpmaker/west-c
 oast-swing-lessons-and-open-dancing-by-demery-and-derek-leyva-and-jenn
 ifer-norris-2024-09-12/
END:VEVENT
END:VCALENDAR