BEGIN:VCALENDAR
VERSION:2.0
CALSCALE:GREGORIAN
PRODID:-//WordPress//RSVPMaker//EN
METHOD:REQUEST
BEGIN:VEVENT
DTSTAMP:20260423T001940Z
UID:64F9B0CFAA9EDF06B7ACF81405583CB6@rsvpmaker.com
SEQUENCE:0
STATUS:CONFIRMED
DTSTART:20240509T210000Z
DTEND:20240509T220000Z
LOCATION:See\: https\://ortegariverclub.net/rsvpmaker/west-coast-swing
 -lessons-and-open-dancing-by-demery-and-derek-leyva-and-jennifer-norri
 s-2024-05-09/
SUMMARY:West Coast Swing Lessons and Open Dancing by Demery and Derek 
 Leyva and Jennifer Norris
DESCRIPTION:Event info\: https\://ortegariverclub.net/rsvpmaker/west-c
 oast-swing-lessons-and-open-dancing-by-demery-and-derek-leyva-and-jenn
 ifer-norris-2024-05-09/
END:VEVENT
END:VCALENDAR