BEGIN:VCALENDAR
VERSION:2.0
CALSCALE:GREGORIAN
PRODID:-//WordPress//RSVPMaker//EN
METHOD:REQUEST
BEGIN:VEVENT
DTSTAMP:20260420T155139Z
UID:0315243C468B238BF15C230C774C9791@rsvpmaker.com
SEQUENCE:0
STATUS:CONFIRMED
DTSTART:20250213T220000Z
DTEND:20250213T230000Z
LOCATION:See\: https\://ortegariverclub.net/rsvpmaker/west-coast-swing
 -dance-only/
SUMMARY:West Coast Swing Dance Only
DESCRIPTION:Event info\: https\://ortegariverclub.net/rsvpmaker/west-c
 oast-swing-dance-only/
END:VEVENT
END:VCALENDAR