BEGIN:VCALENDAR
VERSION:2.0
CALSCALE:GREGORIAN
PRODID:-//WordPress//RSVPMaker//EN
METHOD:REQUEST
BEGIN:VEVENT
DTSTAMP:20260422T163511Z
UID:654897E28023B9D57F35DC4424B892FB@rsvpmaker.com
SEQUENCE:0
STATUS:CONFIRMED
DTSTART:20241019T220000Z
DTEND:20241019T230000Z
LOCATION:See\: https\://ortegariverclub.net/rsvpmaker/warlocks-of-beac
 h-music-ghostly-dance-party-2024-10-19/
SUMMARY:Warlocks of Beach Music Ghostly Dance Party
DESCRIPTION:Event info\: https\://ortegariverclub.net/rsvpmaker/warloc
 ks-of-beach-music-ghostly-dance-party-2024-10-19/
END:VEVENT
END:VCALENDAR