BEGIN:VCALENDAR
VERSION:2.0
CALSCALE:GREGORIAN
PRODID:-//WordPress//RSVPMaker//EN
METHOD:REQUEST
BEGIN:VEVENT
DTSTAMP:20260420T173724Z
UID:17063277217449D39E2328A007FFB4FA@rsvpmaker.com
SEQUENCE:0
STATUS:CONFIRMED
DTSTART:20250212T220000Z
DTEND:20250212T230000Z
LOCATION:See\: https\://ortegariverclub.net/rsvpmaker/valentines-day-d
 inner-at-the-river-and-dancing-2025-02-12/
SUMMARY:Valentines Dinner at the River
DESCRIPTION:Event info\: https\://ortegariverclub.net/rsvpmaker/valent
 ines-day-dinner-at-the-river-and-dancing-2025-02-12/
END:VEVENT
END:VCALENDAR