BEGIN:VCALENDAR
VERSION:2.0
CALSCALE:GREGORIAN
PRODID:-//WordPress//RSVPMaker//EN
METHOD:REQUEST
BEGIN:VEVENT
DTSTAMP:20260420T173608Z
UID:DB923CFD3B8B67F23A1B6DEE06F1F66C@rsvpmaker.com
SEQUENCE:0
STATUS:CONFIRMED
DTSTART:20250215T230000Z
DTEND:20250216T003000Z
LOCATION:See\: https\://ortegariverclub.net/rsvpmaker/sweetheart-dance
 -with-classic-edition-band-2025-02-15/
SUMMARY:Sweetheart Dance with Classic Edition Band
DESCRIPTION:Event info\: https\://ortegariverclub.net/rsvpmaker/sweeth
 eart-dance-with-classic-edition-band-2025-02-15/
END:VEVENT
END:VCALENDAR