BEGIN:VCALENDAR
VERSION:2.0
CALSCALE:GREGORIAN
PRODID:-//WordPress//RSVPMaker//EN
METHOD:REQUEST
BEGIN:VEVENT
DTSTAMP:20260422T163034Z
UID:EAC985BDAA76CF352AB7E8ECC48C0618@rsvpmaker.com
SEQUENCE:0
STATUS:CONFIRMED
DTSTART:20241020T180000Z
DTEND:20241020T180000Z
LOCATION:See\: https\://ortegariverclub.net/rsvpmaker/sunday-chris-tho
 mas-dance-lesson-and-open-dancing-2024-10-20/
SUMMARY:Chris Thomas Dance Lesson and Open Dancing
DESCRIPTION:Event info\: https\://ortegariverclub.net/rsvpmaker/sunday
 -chris-thomas-dance-lesson-and-open-dancing-2024-10-20/
END:VEVENT
END:VCALENDAR