BEGIN:VCALENDAR
VERSION:2.0
CALSCALE:GREGORIAN
PRODID:-//WordPress//RSVPMaker//EN
METHOD:REQUEST
BEGIN:VEVENT
DTSTAMP:20260423T150519Z
UID:FAAEBCDFE2773845E540B7981EE4A09B@rsvpmaker.com
SEQUENCE:0
STATUS:CONFIRMED
DTSTART:20240915T180000Z
DTEND:20240915T180000Z
LOCATION:See\: https\://ortegariverclub.net/rsvpmaker/sunday-chris-tho
 mas-dance-lesson-and-open-dancing-2024-09-15/
SUMMARY:Chris Thomas Dance Lesson and Open Dancing
DESCRIPTION:Event info\: https\://ortegariverclub.net/rsvpmaker/sunday
 -chris-thomas-dance-lesson-and-open-dancing-2024-09-15/
END:VEVENT
END:VCALENDAR