BEGIN:VCALENDAR
VERSION:2.0
CALSCALE:GREGORIAN
PRODID:-//WordPress//RSVPMaker//EN
METHOD:REQUEST
BEGIN:VEVENT
DTSTAMP:20260423T040215Z
UID:E3CCD20199B9C2D6FAA5EB83259A84CD@rsvpmaker.com
SEQUENCE:0
STATUS:CONFIRMED
DTSTART:20240421T143000Z
DTEND:20240421T153000Z
LOCATION:See\: https\://ortegariverclub.net/rsvpmaker/sunday-brunch-20
 24-04-21/
SUMMARY:Sunday Brunch
DESCRIPTION:Event info\: https\://ortegariverclub.net/rsvpmaker/sunday
 -brunch-2024-04-21/
END:VEVENT
END:VCALENDAR