BEGIN:VCALENDAR
VERSION:2.0
CALSCALE:GREGORIAN
PRODID:-//WordPress//RSVPMaker//EN
METHOD:REQUEST
BEGIN:VEVENT
DTSTAMP:20260420T142232Z
UID:9EEE785759C110D74AC2653EAE4C0791@rsvpmaker.com
SEQUENCE:0
STATUS:CONFIRMED
DTSTART:20250305T220000Z
DTEND:20250305T230000Z
LOCATION:See\: https\://ortegariverclub.net/rsvpmaker/special-events-m
 eeting-and-dinner-at-the-river-and-line-dancing-2025-03-05/
SUMMARY:Special Events Meeting and Dinner at the River and Line Dancin
 g
DESCRIPTION:Event info\: https\://ortegariverclub.net/rsvpmaker/specia
 l-events-meeting-and-dinner-at-the-river-and-line-dancing-2025-03-05/
END:VEVENT
END:VCALENDAR