BEGIN:VCALENDAR
VERSION:2.0
CALSCALE:GREGORIAN
PRODID:-//WordPress//RSVPMaker//EN
METHOD:REQUEST
BEGIN:VEVENT
DTSTAMP:20260420T155933Z
UID:B93D43F13FCAC0FDCA43FDA781FD1062@rsvpmaker.com
SEQUENCE:0
STATUS:CONFIRMED
DTSTART:20250205T220000Z
DTEND:20250205T230000Z
LOCATION:See\: https\://ortegariverclub.net/rsvpmaker/special-events-m
 eeting-and-dinner-at-the-river-and-line-dancing-2025-02-05/
SUMMARY:Special Events Meeting and Dinner at the River and Line Dancin
 g
DESCRIPTION:Event info\: https\://ortegariverclub.net/rsvpmaker/specia
 l-events-meeting-and-dinner-at-the-river-and-line-dancing-2025-02-05/
END:VEVENT
END:VCALENDAR