BEGIN:VCALENDAR
VERSION:2.0
CALSCALE:GREGORIAN
PRODID:-//WordPress//RSVPMaker//EN
METHOD:REQUEST
BEGIN:VEVENT
DTSTAMP:20260419T150044Z
UID:B32A0E6FDA31EE75A103500E772D1AC3@rsvpmaker.com
SEQUENCE:0
STATUS:CONFIRMED
DTSTART:20250514T210000Z
DTEND:20250514T220000Z
LOCATION:See\: https\://ortegariverclub.net/rsvpmaker/special-events-a
 nd-general-meeting-and-dinner-and-line-dancing-2025-05-14/
SUMMARY:Special Events and General Meeting and Dinner and Line Dancing
DESCRIPTION:Event info\: https\://ortegariverclub.net/rsvpmaker/specia
 l-events-and-general-meeting-and-dinner-and-line-dancing-2025-05-14/
END:VEVENT
END:VCALENDAR