BEGIN:VCALENDAR
VERSION:2.0
CALSCALE:GREGORIAN
PRODID:-//WordPress//RSVPMaker//EN
METHOD:REQUEST
BEGIN:VEVENT
DTSTAMP:20260420T123300Z
UID:FD9F2AA91CEACFB305F86F2F76BFD494@rsvpmaker.com
SEQUENCE:0
STATUS:CONFIRMED
DTSTART:20250409T210000Z
DTEND:20250409T220000Z
LOCATION:See\: https\://ortegariverclub.net/rsvpmaker/special-events-a
 nd-general-meeting-and-dinner-and-line-dancing-2025-04-09/
SUMMARY:Special Events and General Meeting and Dinner and Line Dancing
DESCRIPTION:Event info\: https\://ortegariverclub.net/rsvpmaker/specia
 l-events-and-general-meeting-and-dinner-and-line-dancing-2025-04-09/
END:VEVENT
END:VCALENDAR