BEGIN:VCALENDAR
VERSION:2.0
CALSCALE:GREGORIAN
PRODID:-//WordPress//RSVPMaker//EN
METHOD:REQUEST
BEGIN:VEVENT
DTSTAMP:20260420T173751Z
UID:74A190A673B9880B825416FD36A44EB3@rsvpmaker.com
SEQUENCE:0
STATUS:CONFIRMED
DTSTART:20250108T220000Z
DTEND:20250108T230000Z
LOCATION:See\: https\://ortegariverclub.net/rsvpmaker/special-events-a
 nd-general-meeting-and-dinner-and-line-dancing-2025-01-08/
SUMMARY:Special Events and General Meeting and Dinner and Line Dancing
DESCRIPTION:Event info\: https\://ortegariverclub.net/rsvpmaker/specia
 l-events-and-general-meeting-and-dinner-and-line-dancing-2025-01-08/
END:VEVENT
END:VCALENDAR