BEGIN:VCALENDAR
VERSION:2.0
CALSCALE:GREGORIAN
PRODID:-//WordPress//RSVPMaker//EN
METHOD:REQUEST
BEGIN:VEVENT
DTSTAMP:20260422T125344Z
UID:EB5C505E43F84A12F3E8340A2B679567@rsvpmaker.com
SEQUENCE:0
STATUS:CONFIRMED
DTSTART:20241113T220000Z
DTEND:20241113T230000Z
LOCATION:See\: https\://ortegariverclub.net/rsvpmaker/special-events-a
 nd-general-meeting-and-dinner-and-line-dancing-2024-11-13/
SUMMARY:Special Events and General Meeting and Dinner and Line Dancing
DESCRIPTION:Event info\: https\://ortegariverclub.net/rsvpmaker/specia
 l-events-and-general-meeting-and-dinner-and-line-dancing-2024-11-13/
END:VEVENT
END:VCALENDAR