BEGIN:VCALENDAR
VERSION:2.0
CALSCALE:GREGORIAN
PRODID:-//WordPress//RSVPMaker//EN
METHOD:REQUEST
BEGIN:VEVENT
DTSTAMP:20260422T163623Z
UID:FE7088DD28583261EFDE5B7FF7C9D422@rsvpmaker.com
SEQUENCE:0
STATUS:CONFIRMED
DTSTART:20241016T210000Z
DTEND:20241016T220000Z
LOCATION:See\: https\://ortegariverclub.net/rsvpmaker/special-events-a
 nd-general-meeting-and-dinner-and-line-dancing-2024-10-16/
SUMMARY:Special Events and General Meeting and Dinner and Line Dancing
DESCRIPTION:Event info\: https\://ortegariverclub.net/rsvpmaker/specia
 l-events-and-general-meeting-and-dinner-and-line-dancing-2024-10-16/
END:VEVENT
END:VCALENDAR