BEGIN:VCALENDAR
VERSION:2.0
CALSCALE:GREGORIAN
PRODID:-//WordPress//RSVPMaker//EN
METHOD:REQUEST
BEGIN:VEVENT
DTSTAMP:20260422T163815Z
UID:8A455D2B84726913FE7652EFDC0CFADC@rsvpmaker.com
SEQUENCE:0
STATUS:CONFIRMED
DTSTART:20240911T210000Z
DTEND:20240911T220000Z
LOCATION:See\: https\://ortegariverclub.net/rsvpmaker/special-events-a
 nd-general-meeting-and-dinner-and-line-dancing-2024-09-11/
SUMMARY:Special Events and General Meeting and Dinner and Line Dancing
DESCRIPTION:Event info\: https\://ortegariverclub.net/rsvpmaker/specia
 l-events-and-general-meeting-and-dinner-and-line-dancing-2024-09-11/
END:VEVENT
END:VCALENDAR