BEGIN:VCALENDAR
VERSION:2.0
CALSCALE:GREGORIAN
PRODID:-//WordPress//RSVPMaker//EN
METHOD:REQUEST
BEGIN:VEVENT
DTSTAMP:20260422T201731Z
UID:9810F068F88157E1E1E1DF7A2D80706A@rsvpmaker.com
SEQUENCE:0
STATUS:CONFIRMED
DTSTART:20240710T210000Z
DTEND:20240710T220000Z
LOCATION:See\: https\://ortegariverclub.net/rsvpmaker/special-events-a
 nd-general-meeting-and-dinner-and-line-dancing-2024-07-10/
SUMMARY:Special Events and General Meeting and Dinner and Line Dancing
DESCRIPTION:Event info\: https\://ortegariverclub.net/rsvpmaker/specia
 l-events-and-general-meeting-and-dinner-and-line-dancing-2024-07-10/
END:VEVENT
END:VCALENDAR