BEGIN:VCALENDAR
VERSION:2.0
CALSCALE:GREGORIAN
PRODID:-//WordPress//RSVPMaker//EN
METHOD:REQUEST
BEGIN:VEVENT
DTSTAMP:20260420T102750Z
UID:2A5F614FBD6B69FD6695AE213D63EEF0@rsvpmaker.com
SEQUENCE:0
STATUS:CONFIRMED
DTSTART:20240907T223000Z
DTEND:20240907T233000Z
LOCATION:See\: https\://ortegariverclub.net/rsvpmaker/southern-rukus-b
 and-dance-2024-09-07/
SUMMARY:Southern Rukus Band Dance
DESCRIPTION:Event info\: https\://ortegariverclub.net/rsvpmaker/southe
 rn-rukus-band-dance-2024-09-07/
END:VEVENT
END:VCALENDAR