BEGIN:VCALENDAR
VERSION:2.0
CALSCALE:GREGORIAN
PRODID:-//WordPress//RSVPMaker//EN
METHOD:REQUEST
BEGIN:VEVENT
DTSTAMP:20260422T051607Z
UID:CF247D6DAFC3AADCDF0B2CD608AC8F72@rsvpmaker.com
SEQUENCE:0
STATUS:CONFIRMED
DTSTART:20210313T233000Z
DTEND:20210314T003000Z
LOCATION:See\: https\://ortegariverclub.net/rsvpmaker/soul-fire-band-2
 021-03-13/
SUMMARY:St Patricks Day Dance with The Soul Fire Band
DESCRIPTION:Event info\: https\://ortegariverclub.net/rsvpmaker/soul-f
 ire-band-2021-03-13/
END:VEVENT
END:VCALENDAR