BEGIN:VCALENDAR
VERSION:2.0
CALSCALE:GREGORIAN
PRODID:-//WordPress//RSVPMaker//EN
METHOD:REQUEST
BEGIN:VEVENT
DTSTAMP:20260422T144253Z
UID:E26AF35311D1E3EB0873D862E83AA1D4@rsvpmaker.com
SEQUENCE:0
STATUS:CONFIRMED
DTSTART:20241118T000000Z
DTEND:20241118T010000Z
LOCATION:See\: https\://ortegariverclub.net/rsvpmaker/something-specia
 l-is-coming-2024-11-17/
SUMMARY:Pop Up Event Fall Candlelight Dinner
DESCRIPTION:Event info\: https\://ortegariverclub.net/rsvpmaker/someth
 ing-special-is-coming-2024-11-17/
END:VEVENT
END:VCALENDAR