BEGIN:VCALENDAR
VERSION:2.0
CALSCALE:GREGORIAN
PRODID:-//WordPress//RSVPMaker//EN
METHOD:REQUEST
BEGIN:VEVENT
DTSTAMP:20260422T130149Z
UID:845AE5F86E478F372A410A0FC2DB1D82@rsvpmaker.com
SEQUENCE:0
STATUS:CONFIRMED
DTSTART:20241217T220000Z
DTEND:20241217T230000Z
LOCATION:See\: https\://ortegariverclub.net/rsvpmaker/shag-dance-no-le
 ssons-by-first-coast-shag-club-2024-12-17/
SUMMARY:Shag Dance (no lessons) by First Coast Shag Club
DESCRIPTION:Event info\: https\://ortegariverclub.net/rsvpmaker/shag-d
 ance-no-lessons-by-first-coast-shag-club-2024-12-17/
END:VEVENT
END:VCALENDAR