BEGIN:VCALENDAR
VERSION:2.0
CALSCALE:GREGORIAN
PRODID:-//WordPress//RSVPMaker//EN
METHOD:REQUEST
BEGIN:VEVENT
DTSTAMP:20260422T110603Z
UID:4779F3C10414814BC988C4FB6475B4C7@rsvpmaker.com
SEQUENCE:0
STATUS:CONFIRMED
DTSTART:20241203T220000Z
DTEND:20241203T230000Z
LOCATION:See\: https\://ortegariverclub.net/rsvpmaker/shag-dance-no-le
 ssons-by-first-coast-shag-club-2024-12-03/
SUMMARY:Shag Dance (no lessons) by First Coast Shag Club
DESCRIPTION:Event info\: https\://ortegariverclub.net/rsvpmaker/shag-d
 ance-no-lessons-by-first-coast-shag-club-2024-12-03/
END:VEVENT
END:VCALENDAR