BEGIN:VCALENDAR
VERSION:2.0
CALSCALE:GREGORIAN
PRODID:-//WordPress//RSVPMaker//EN
METHOD:REQUEST
BEGIN:VEVENT
DTSTAMP:20260420T085819Z
UID:5C469784EAFC2DED9338DEDDA197DB25@rsvpmaker.com
SEQUENCE:0
STATUS:CONFIRMED
DTSTART:20250722T210000Z
DTEND:20250722T233000Z
LOCATION:See\: https\://ortegariverclub.net/rsvpmaker/shag-dance-lesso
 ns-by-first-coast-shag-club-2025-07-22/
SUMMARY:Shag Dance Lessons by First Coast Shag Club
DESCRIPTION:Event info\: https\://ortegariverclub.net/rsvpmaker/shag-d
 ance-lessons-by-first-coast-shag-club-2025-07-22/
END:VEVENT
END:VCALENDAR