BEGIN:VCALENDAR
VERSION:2.0
CALSCALE:GREGORIAN
PRODID:-//WordPress//RSVPMaker//EN
METHOD:REQUEST
BEGIN:VEVENT
DTSTAMP:20260420T142051Z
UID:61EE0F699345F07A005C3C9DE446436D@rsvpmaker.com
SEQUENCE:0
STATUS:CONFIRMED
DTSTART:20250408T210000Z
DTEND:20250408T233000Z
LOCATION:See\: https\://ortegariverclub.net/rsvpmaker/shag-dance-lesso
 ns-by-first-coast-shag-club-2025-04-08/
SUMMARY:Shag Dance Lessons by First Coast Shag Club
DESCRIPTION:Event info\: https\://ortegariverclub.net/rsvpmaker/shag-d
 ance-lessons-by-first-coast-shag-club-2025-04-08/
END:VEVENT
END:VCALENDAR