BEGIN:VCALENDAR
VERSION:2.0
CALSCALE:GREGORIAN
PRODID:-//WordPress//RSVPMaker//EN
METHOD:REQUEST
BEGIN:VEVENT
DTSTAMP:20260420T173909Z
UID:6D6072EA730F062537E458A1E7D47E78@rsvpmaker.com
SEQUENCE:0
STATUS:CONFIRMED
DTSTART:20250225T220000Z
DTEND:20250226T003000Z
LOCATION:See\: https\://ortegariverclub.net/rsvpmaker/shag-dance-lesso
 ns-by-first-coast-shag-club-2025-02-25/
SUMMARY:Shag Dance Lessons by First Coast Shag Club
DESCRIPTION:Event info\: https\://ortegariverclub.net/rsvpmaker/shag-d
 ance-lessons-by-first-coast-shag-club-2025-02-25/
END:VEVENT
END:VCALENDAR