BEGIN:VCALENDAR
VERSION:2.0
CALSCALE:GREGORIAN
PRODID:-//WordPress//RSVPMaker//EN
METHOD:REQUEST
BEGIN:VEVENT
DTSTAMP:20260420T173741Z
UID:0C9FD755F1E941587CABAB631A81F89E@rsvpmaker.com
SEQUENCE:0
STATUS:CONFIRMED
DTSTART:20250204T220000Z
DTEND:20250205T003000Z
LOCATION:See\: https\://ortegariverclub.net/rsvpmaker/shag-dance-lesso
 ns-by-first-coast-shag-club-2025-02-04/
SUMMARY:Shag Dance Lessons by First Coast Shag Club
DESCRIPTION:Event info\: https\://ortegariverclub.net/rsvpmaker/shag-d
 ance-lessons-by-first-coast-shag-club-2025-02-04/
END:VEVENT
END:VCALENDAR