BEGIN:VCALENDAR
VERSION:2.0
CALSCALE:GREGORIAN
PRODID:-//WordPress//RSVPMaker//EN
METHOD:REQUEST
BEGIN:VEVENT
DTSTAMP:20260420T192438Z
UID:17DE7EB570312F4C297DC23606A0FEDF@rsvpmaker.com
SEQUENCE:0
STATUS:CONFIRMED
DTSTART:20250128T220000Z
DTEND:20250129T003000Z
LOCATION:See\: https\://ortegariverclub.net/rsvpmaker/shag-dance-lesso
 ns-by-first-coast-shag-club-2025-01-28/
SUMMARY:Shag Dance Lessons by First Coast Shag Club
DESCRIPTION:Event info\: https\://ortegariverclub.net/rsvpmaker/shag-d
 ance-lessons-by-first-coast-shag-club-2025-01-28/
END:VEVENT
END:VCALENDAR