BEGIN:VCALENDAR
VERSION:2.0
CALSCALE:GREGORIAN
PRODID:-//WordPress//RSVPMaker//EN
METHOD:REQUEST
BEGIN:VEVENT
DTSTAMP:20260422T145055Z
UID:1A0B9D091283B31708A6E8DEC004BD6E@rsvpmaker.com
SEQUENCE:0
STATUS:CONFIRMED
DTSTART:20241119T220000Z
DTEND:20241120T003000Z
LOCATION:See\: https\://ortegariverclub.net/rsvpmaker/shag-dance-lesso
 ns-by-first-coast-shag-club-2024-11-19/
SUMMARY:Shag Dance Lessons by First Coast Shag Club
DESCRIPTION:Event info\: https\://ortegariverclub.net/rsvpmaker/shag-d
 ance-lessons-by-first-coast-shag-club-2024-11-19/
END:VEVENT
END:VCALENDAR