BEGIN:VCALENDAR
VERSION:2.0
CALSCALE:GREGORIAN
PRODID:-//WordPress//RSVPMaker//EN
METHOD:REQUEST
BEGIN:VEVENT
DTSTAMP:20260422T125328Z
UID:3649A6A2557A26ADA5A5751518E711F7@rsvpmaker.com
SEQUENCE:0
STATUS:CONFIRMED
DTSTART:20241105T220000Z
DTEND:20241106T003000Z
LOCATION:See\: https\://ortegariverclub.net/rsvpmaker/shag-dance-lesso
 ns-by-first-coast-shag-club-2024-11-05/
SUMMARY:Shag Dance Lessons by First Coast Shag Club
DESCRIPTION:Event info\: https\://ortegariverclub.net/rsvpmaker/shag-d
 ance-lessons-by-first-coast-shag-club-2024-11-05/
END:VEVENT
END:VCALENDAR