BEGIN:VCALENDAR
VERSION:2.0
CALSCALE:GREGORIAN
PRODID:-//WordPress//RSVPMaker//EN
METHOD:REQUEST
BEGIN:VEVENT
DTSTAMP:20260422T163522Z
UID:BDA9F65E28426FC1F93C4F5F223CD1BC@rsvpmaker.com
SEQUENCE:0
STATUS:CONFIRMED
DTSTART:20241022T210000Z
DTEND:20241022T233000Z
LOCATION:See\: https\://ortegariverclub.net/rsvpmaker/shag-dance-lesso
 ns-by-first-coast-shag-club-2024-10-22/
SUMMARY:Shag Dance Lessons by First Coast Shag Club
DESCRIPTION:Event info\: https\://ortegariverclub.net/rsvpmaker/shag-d
 ance-lessons-by-first-coast-shag-club-2024-10-22/
END:VEVENT
END:VCALENDAR