BEGIN:VCALENDAR
VERSION:2.0
CALSCALE:GREGORIAN
PRODID:-//WordPress//RSVPMaker//EN
METHOD:REQUEST
BEGIN:VEVENT
DTSTAMP:20260422T163630Z
UID:B18F646FB284FC597D309242DE321023@rsvpmaker.com
SEQUENCE:0
STATUS:CONFIRMED
DTSTART:20241015T210000Z
DTEND:20241015T233000Z
LOCATION:See\: https\://ortegariverclub.net/rsvpmaker/shag-dance-lesso
 ns-by-first-coast-shag-club-2024-10-15/
SUMMARY:Shag Dance Lessons by First Coast Shag Club
DESCRIPTION:Event info\: https\://ortegariverclub.net/rsvpmaker/shag-d
 ance-lessons-by-first-coast-shag-club-2024-10-15/
END:VEVENT
END:VCALENDAR