BEGIN:VCALENDAR
VERSION:2.0
CALSCALE:GREGORIAN
PRODID:-//WordPress//RSVPMaker//EN
METHOD:REQUEST
BEGIN:VEVENT
DTSTAMP:20260423T013552Z
UID:DAAF13A1565B64DC3779F551DE67B95E@rsvpmaker.com
SEQUENCE:0
STATUS:CONFIRMED
DTSTART:20240924T210000Z
DTEND:20240924T233000Z
LOCATION:See\: https\://ortegariverclub.net/rsvpmaker/shag-dance-lesso
 ns-by-first-coast-shag-club-2024-09-24/
SUMMARY:Shag Dance Lessons by First Coast Shag Club
DESCRIPTION:Event info\: https\://ortegariverclub.net/rsvpmaker/shag-d
 ance-lessons-by-first-coast-shag-club-2024-09-24/
END:VEVENT
END:VCALENDAR