BEGIN:VCALENDAR
VERSION:2.0
CALSCALE:GREGORIAN
PRODID:-//WordPress//RSVPMaker//EN
METHOD:REQUEST
BEGIN:VEVENT
DTSTAMP:20260423T014312Z
UID:493C4B304BE1E32548B7AD5D5C22EF6B@rsvpmaker.com
SEQUENCE:0
STATUS:CONFIRMED
DTSTART:20240917T210000Z
DTEND:20240917T233000Z
LOCATION:See\: https\://ortegariverclub.net/rsvpmaker/shag-dance-lesso
 ns-by-first-coast-shag-club-2024-09-17/
SUMMARY:Shag Dance Lessons by First Coast Shag Club
DESCRIPTION:Event info\: https\://ortegariverclub.net/rsvpmaker/shag-d
 ance-lessons-by-first-coast-shag-club-2024-09-17/
END:VEVENT
END:VCALENDAR