BEGIN:VCALENDAR
VERSION:2.0
CALSCALE:GREGORIAN
PRODID:-//WordPress//RSVPMaker//EN
METHOD:REQUEST
BEGIN:VEVENT
DTSTAMP:20260422T163645Z
UID:B09D978EA462060C446ED6833F58735C@rsvpmaker.com
SEQUENCE:0
STATUS:CONFIRMED
DTSTART:20240910T210000Z
DTEND:20240910T233000Z
LOCATION:See\: https\://ortegariverclub.net/rsvpmaker/shag-dance-lesso
 ns-by-first-coast-shag-club-2024-09-10/
SUMMARY:Shag Dance Lessons by First Coast Shag Club
DESCRIPTION:Event info\: https\://ortegariverclub.net/rsvpmaker/shag-d
 ance-lessons-by-first-coast-shag-club-2024-09-10/
END:VEVENT
END:VCALENDAR