BEGIN:VCALENDAR
VERSION:2.0
CALSCALE:GREGORIAN
PRODID:-//WordPress//RSVPMaker//EN
METHOD:REQUEST
BEGIN:VEVENT
DTSTAMP:20260425T160335Z
UID:95729D35A507B967329BEEC22743EC26@rsvpmaker.com
SEQUENCE:0
STATUS:CONFIRMED
DTSTART:20230107T233000Z
DTEND:20230108T003000Z
LOCATION:See\: https\://ortegariverclub.net/rsvpmaker/post-holiday-ope
 n-dance-2023-01-07/
SUMMARY:Post Holiday Open Dance
DESCRIPTION:Event info\: https\://ortegariverclub.net/rsvpmaker/post-h
 oliday-open-dance-2023-01-07/
END:VEVENT
END:VCALENDAR