BEGIN:VCALENDAR
VERSION:2.0
CALSCALE:GREGORIAN
PRODID:-//WordPress//RSVPMaker//EN
METHOD:REQUEST
BEGIN:VEVENT
DTSTAMP:20260420T155642Z
UID:E03CBA77A01E29E49E8FE0D2FD26D577@rsvpmaker.com
SEQUENCE:0
STATUS:CONFIRMED
DTSTART:20250314T230000Z
DTEND:20250315T000000Z
LOCATION:See\: https\://ortegariverclub.net/rsvpmaker/pop-up-event-fer
 nandos-hideaway-candlelight-dinner-2025-03-14/
SUMMARY:Pop Up Event Candlelight Dinner
DESCRIPTION:Event info\: https\://ortegariverclub.net/rsvpmaker/pop-up
 -event-fernandos-hideaway-candlelight-dinner-2025-03-14/
END:VEVENT
END:VCALENDAR