BEGIN:VCALENDAR
VERSION:2.0
CALSCALE:GREGORIAN
PRODID:-//WordPress//RSVPMaker//EN
METHOD:REQUEST
BEGIN:VEVENT
DTSTAMP:20260422T105624Z
UID:3381294AFE5973D75687E1DB220D74DE@rsvpmaker.com
SEQUENCE:0
STATUS:CONFIRMED
DTSTART:20241213T220000Z
DTEND:20241213T230000Z
LOCATION:See\: https\://ortegariverclub.net/rsvpmaker/plug-and-play-ni
 ght-2024-12-13/
SUMMARY:Plug and Play Night
DESCRIPTION:Event info\: https\://ortegariverclub.net/rsvpmaker/plug-a
 nd-play-night-2024-12-13/
END:VEVENT
END:VCALENDAR