BEGIN:VCALENDAR
VERSION:2.0
CALSCALE:GREGORIAN
PRODID:-//WordPress//RSVPMaker//EN
METHOD:REQUEST
BEGIN:VEVENT
DTSTAMP:20260422T163005Z
UID:C4211B6FDDF7DDF821087989AE514550@rsvpmaker.com
SEQUENCE:0
STATUS:CONFIRMED
DTSTART:20241025T210000Z
DTEND:20241025T220000Z
LOCATION:See\: https\://ortegariverclub.net/rsvpmaker/plug-and-play-ni
 ght-2024-10-25/
SUMMARY:Plug and Play Night
DESCRIPTION:Event info\: https\://ortegariverclub.net/rsvpmaker/plug-a
 nd-play-night-2024-10-25/
END:VEVENT
END:VCALENDAR