BEGIN:VCALENDAR
VERSION:2.0
CALSCALE:GREGORIAN
PRODID:-//WordPress//RSVPMaker//EN
METHOD:REQUEST
BEGIN:VEVENT
DTSTAMP:20260422T163142Z
UID:62E11DCFE1CCA7274439EFCCBDAA8C40@rsvpmaker.com
SEQUENCE:0
STATUS:CONFIRMED
DTSTART:20241018T210000Z
DTEND:20241018T220000Z
LOCATION:See\: https\://ortegariverclub.net/rsvpmaker/oktoberfest-dinn
 er-at-the-river-and-dancing-2024-10-18/
SUMMARY:Oktoberfest Dinner at the River and Dancing
DESCRIPTION:Event info\: https\://ortegariverclub.net/rsvpmaker/oktobe
 rfest-dinner-at-the-river-and-dancing-2024-10-18/
END:VEVENT
END:VCALENDAR