BEGIN:VCALENDAR
VERSION:2.0
CALSCALE:GREGORIAN
PRODID:-//WordPress//RSVPMaker//EN
METHOD:REQUEST
BEGIN:VEVENT
DTSTAMP:20260422T124241Z
UID:BD91A434DE99FB29E2A74A181F06560F@rsvpmaker.com
SEQUENCE:0
STATUS:CONFIRMED
DTSTART:20241229T190000Z
DTEND:20241229T200000Z
LOCATION:See\: https\://ortegariverclub.net/rsvpmaker/new-years-eve-de
 corating/
SUMMARY:New Years Eve Decorating
DESCRIPTION:Event info\: https\://ortegariverclub.net/rsvpmaker/new-ye
 ars-eve-decorating/
END:VEVENT
END:VCALENDAR