BEGIN:VCALENDAR
VERSION:2.0
CALSCALE:GREGORIAN
PRODID:-//WordPress//RSVPMaker//EN
METHOD:REQUEST
BEGIN:VEVENT
DTSTAMP:20260423T164922Z
UID:26079C271736E881B2C523644F8DE690@rsvpmaker.com
SEQUENCE:0
STATUS:CONFIRMED
DTSTART:20240916T220000Z
DTEND:20240916T230000Z
LOCATION:See\: https\://ortegariverclub.net/rsvpmaker/mixology-demonst
 ration-and-class-2024-09-16-2/
SUMMARY:Sip Mix and Socialize Mixology Class
DESCRIPTION:Event info\: https\://ortegariverclub.net/rsvpmaker/mixolo
 gy-demonstration-and-class-2024-09-16-2/
END:VEVENT
END:VCALENDAR