BEGIN:VCALENDAR
VERSION:2.0
CALSCALE:GREGORIAN
PRODID:-//WordPress//RSVPMaker//EN
METHOD:REQUEST
BEGIN:VEVENT
DTSTAMP:20260422T144253Z
UID:DEF32002582287E0636AFA7EDB65A192@rsvpmaker.com
SEQUENCE:0
STATUS:CONFIRMED
DTSTART:20241130T160000Z
DTEND:20241130T190000Z
LOCATION:See\: https\://ortegariverclub.net/rsvpmaker/memorial-service
 -2024-11-30/
SUMMARY:Memorial Service
DESCRIPTION:Event info\: https\://ortegariverclub.net/rsvpmaker/memori
 al-service-2024-11-30/
END:VEVENT
END:VCALENDAR