BEGIN:VCALENDAR
VERSION:2.0
CALSCALE:GREGORIAN
PRODID:-//WordPress//RSVPMaker//EN
METHOD:REQUEST
BEGIN:VEVENT
DTSTAMP:20260420T155344Z
UID:496AD1139911EEB014D31DCE575FAA61@rsvpmaker.com
SEQUENCE:0
STATUS:CONFIRMED
DTSTART:20250321T210000Z
DTEND:20250322T030000Z
LOCATION:See\: https\://ortegariverclub.net/rsvpmaker/latin-dancing-ni
 ght-2025-03-21/
SUMMARY:Latin Dancing Night
DESCRIPTION:Event info\: https\://ortegariverclub.net/rsvpmaker/latin-
 dancing-night-2025-03-21/
END:VEVENT
END:VCALENDAR