BEGIN:VCALENDAR
VERSION:2.0
CALSCALE:GREGORIAN
PRODID:-//WordPress//RSVPMaker//EN
METHOD:REQUEST
BEGIN:VEVENT
DTSTAMP:20260420T191646Z
UID:5928ECABCDC8F26FAAA44E79476AF2F0@rsvpmaker.com
SEQUENCE:0
STATUS:CONFIRMED
DTSTART:20250117T220000Z
DTEND:20250118T040000Z
LOCATION:See\: https\://ortegariverclub.net/rsvpmaker/latin-dancing-ni
 ght-2025-01-17/
SUMMARY:Latin Dancing Night
DESCRIPTION:Event info\: https\://ortegariverclub.net/rsvpmaker/latin-
 dancing-night-2025-01-17/
END:VEVENT
END:VCALENDAR