BEGIN:VCALENDAR
VERSION:2.0
CALSCALE:GREGORIAN
PRODID:-//WordPress//RSVPMaker//EN
METHOD:REQUEST
BEGIN:VEVENT
DTSTAMP:20260422T124953Z
UID:E6F2B8AB1807D5864B4DB865CCF4D02B@rsvpmaker.com
SEQUENCE:0
STATUS:CONFIRMED
DTSTART:20241220T220000Z
DTEND:20241221T040000Z
LOCATION:See\: https\://ortegariverclub.net/rsvpmaker/latin-dancing-an
 d-open-grill-night-2024-12-20/
SUMMARY:Latin Dancing Night
DESCRIPTION:Event info\: https\://ortegariverclub.net/rsvpmaker/latin-
 dancing-and-open-grill-night-2024-12-20/
END:VEVENT
END:VCALENDAR